{"text_format":"1","workbook":"xlsx","n_sheets":3,"sheets":["concentartion connection","Sheet4","محلولها2"],"not_rendered":{"charts":0,"images":0,"macros":1,"external_links":0,"defined_names":6,"comments":1,"pivot_tables":0},"unopened":[],"bounds":{"document_bytes":16777216,"sheet_cells":100000,"rows_first":2000,"rows_last":500,"rows_between":2000,"halvings":0,"cell_chars":16384,"cell_head_chars":4096},"cells_cut":0,"cells_raw":0,"read":"whole","date_system":"1900"}

{"sheet":"concentartion connection","index":0,"n_rows":340,"n_cols":13,"rows_kept":340,"cut":false,"hidden":false,"merged":[[14,1,15,11],[13,6,13,8],[7,0,7,4],[7,6,8,6],[9,5,10,5],[9,6,10,6],[12,2,13,4],[12,5,13,5],[12,6,12,8],[8,7,10,12],[3,18,4,18],[3,19,4,19],[12,9,13,10],[12,11,13,11],[12,12,13,13],[5,5,6,5],[5,6,6,6],[3,0,3,4],[3,6,4,6],[3,7,3,10]]}
[]
[{"$f":"SUM(E6:K6)","v":40}]
[]
["حل شونده",null,null,null,null,"چگالي","جرم مولي حل شونده","محلول",null,null,null,"چگالي محلول"]
["مول","گرم","Kg","L","mL",null,null,"L","mL","گرم","Kg"]
[null,5,null,null,null,null,40,null,null,null,null,1]
[{"$f":"Sheet4!R8","v":0.125},{"$f":"Sheet4!R6","v":5},{"$f":"Sheet4!R7","v":5.0000000000000001E-3},{"$f":"Sheet4!R4","v":0},{"$f":"Sheet4!R5","v":0},null,null,{"$f":"Sheet4!S4","v":0.05},{"$f":"Sheet4!S5","v":50},{"$f":"Sheet4!S6","v":50},{"$f":"Sheet4!S7","v":4.9999999999999996E-2}]
["حلال",null,null,null,null,"چگالي حلال","جرم مولي حلال"]
["mol","mL","L","گرم","Kg",null,null,"www.chemclinic.blogfa.com"]
[null,null,null,45,null,1,18]
[{"$f":"Sheet4!Q8","v":2.5},{"$f":"Sheet4!Q5","v":45},{"$f":"Sheet4!Q4","v":4.4999999999999998E-2},{"$f":"Sheet4!Q6","v":45},{"$f":"Sheet4!Q7","v":4.4999999999999998E-2}]
[]
[null,null,{"$f":"IF(H340=1,\"مولاليته\",IF(H340=2,\"مولاريته\",IF(H340=3,\"غلظت وزني\",IF(H340=4,\"درصد جرمي\",IF(H340=5,\"ppm\",IF(H340=6,\"انحلال پذیری\",\"\"))))))","v":"انحلال پذیری"},null,null,"=",{"$f":"IF(OR(H340=2,H340=1),A7,IF(OR(H340=3,H340=4,H340=5),B7,IF(H340=6,B7,\"\")))","v":5},null,null,{"$f":"IF(OR(H340=1,H340=2,H340=3),\"=\",IF(OR(H340=6,H340=4),\"*100\",IF(H340=5,\"*1000000\",\"\")))","v":"*100"},null,{"$f":"IF(OR(H340=1,H340=2,H340=3),G13/G14,IF(OR(H340=6,H340=4,H340=5),\"=\",\"\"))","v":"="},{"$f":"IF(OR(H340=6,H340=4),G13/G14*100,IF(H340=5,G13/G14*1000000,\"\"))","v":11.111111111111111}]
[null,null,null,null,null,null,{"$f":"IF(H340=1,E11,IF(H340=2,H7,IF(H340=3,H7,IF(H340=4,J7,IF(H340=5,J7,IF(H340=6,D11,\"\"))))))","v":45}]
[null,"غلامحسین شیروانی"]
[]
[]
[]
[]
[]
[]
[]
[]
[]
[]
[]
[]
[]
[]
[]
[]
[]
[]
[]
[]
[]
[]
[]
[]
[]
[]
[]
[]
[]
[]
[]
[]
[]
[]
[]
[]
[]
[]
[]
[]
[]
[]
[]
[]
[]
[]
[]
[]
[]
[]
[]
[]
[]
[]
[]
[]
[]
[]
[]
[]
[]
[]
[]
[]
[]
[]
[]
[]
[]
[]
[]
[]
[]
[]
[]
[]
[]
[]
[]
[]
[]
[]
[]
[]
[]
[]
[]
[]
[]
[]
[]
[]
[]
[]
[]
[]
[]
[]
[]
[]
[]
[]
[]
[]
[]
[]
[]
[]
[]
[]
[]
[]
[]
[]
[]
[]
[]
[]
[]
[]
[]
[]
[]
[]
[]
[]
[]
[]
[]
[]
[]
[]
[]
[]
[]
[]
[]
[]
[]
[]
[]
[]
[]
[]
[]
[]
[]
[]
[]
[]
[]
[]
[]
[]
[]
[]
[]
[]
[]
[]
[]
[]
[]
[]
[]
[]
[]
[]
[]
[]
[]
[]
[]
[]
[]
[]
[]
[]
[]
[]
[]
[]
[]
[]
[]
[]
[]
[]
[]
[]
[]
[]
[]
[]
[]
[]
[]
[]
[]
[]
[]
[]
[]
[]
[]
[]
[]
[]
[]
[]
[]
[]
[]
[]
[]
[]
[]
[]
[]
[]
[]
[]
[]
[]
[]
[]
[]
[]
[]
[]
[]
[]
[]
[]
[]
[]
[]
[]
[]
[]
[]
[]
[]
[]
[]
[]
[]
[]
[]
[]
[]
[]
[]
[]
[]
[]
[]
[]
[]
[]
[]
[]
[]
[]
[]
[]
[]
[]
[]
[]
[]
[]
[]
[]
[]
[]
[]
[]
[]
[]
[]
[]
[]
[]
[]
[]
[]
[]
[]
[]
[]
[]
[]
[]
[]
[]
[]
[]
[]
[]
[]
[]
[]
[]
[]
[]
[]
[]
[]
[]
[]
[]
[]
[]
[]
[]
[]
[]
[]
[]
[]
[]
[]
[]
[null,null,null,null,null,null,null,6]

{"sheet":"Sheet4","index":1,"n_rows":33,"n_cols":19,"rows_kept":33,"cut":false,"hidden":true,"merged":[]}
["solvent",null,"mol",{"$f":"'concentartion connection'!A10","v":0},null,"solute",null,"mol",{"$f":"'concentartion connection'!A6","v":0},null,"solution"]
[null,null,"L",{"$f":"IF(ISERROR(D3/1000),0,D3/1000)","v":0},null,null,null,"L",{"$f":"IF(ISERROR(I3/1000),0,I3/1000)","v":0}]
["g/mol",{"$f":"IF('concentartion connection'!G10=\"\",1,'concentartion connection'!G10)","v":18},"mL",{"$f":"IF(ISERROR(D4/B4),0,D4/B4)","v":0},null,null,null,"mL",{"$f":"IF(ISERROR(I4/G5),0,I4/G5)","v":0},null,null,null,null,null,null,null,"solvent","solute","solution"]
["d",{"$f":"'concentartion connection'!F10","v":1},"g",{"$f":"D1*B3","v":0},null,"g/mol",{"$f":"IF('concentartion connection'!G6=\"\",1,'concentartion connection'!G6)","v":40},"g",{"$f":"I1*G4","v":0},null,null,null,null,null,null,"L",{"$f":"IF(D29=0,N29-I29,D29)","v":4.4999999999999998E-2},{"$f":"IF(N29-D29<0,0,IF(I29=0,N29-D29,I29))","v":0},{"$f":"IF(L5<>0,S5/1000,IF(N29=0,I29+D29,N29))","v":0.05}]
[null,null,"Kg",{"$f":"D4/1000","v":0},null,"d",{"$f":"'concentartion connection'!F6","v":0},"Kg",{"$f":"I4/1000","v":0},null,"d",{"$f":"IF('concentartion connection'!L6=\"\",1,'concentartion connection'!L6)","v":1},null,null,null,"mL",{"$f":"IF(D30=0,N30-I30,D30)","v":45},{"$f":"IF(N30-D30<0,0,IF(I30=0,N30-D30,I30))","v":0},{"$f":"IF(L5<>0,S6/L5,IF(N30=0,I30+D30,N30))","v":50}]
[null,null,"mol",{"$f":"D9/B3","v":0},null,null,null,"mol",{"$f":"I9/G4","v":0},null,null,null,null,null,null,"g",45,{"$f":"IF(I31=0,N31-D31,I31)","v":5},{"$f":"IF(N31=0,I31+D31,N31)","v":50}]
[null,null,"L",{"$f":"'concentartion connection'!C10","v":0},null,null,null,"L",{"$f":"'concentartion connection'!D6","v":0},null,null,null,"L",{"$f":"'concentartion connection'!H6","v":0},null,"Kg",4.4999999999999998E-2,5.0000000000000001E-3,4.9999999999999996E-2]
[null,null,"mL",{"$f":"D7*1000","v":0},null,null,null,"mL",{"$f":"I7*1000","v":0},null,null,null,"mL",{"$f":"N7*1000","v":0},null,"mol",{"$f":"IF(D33=0,Q6/B3,D33)","v":2.5},{"$f":"IF(I33=0,R6/G4,I33)","v":0.125}]
[null,null,"g",{"$f":"D8*B4","v":0},null,null,null,"g",{"$f":"I8*G5","v":0},null,null,null,"g",{"$f":"N8*L5","v":0}]
[null,null,"Kg",{"$f":"D9/1000","v":0},null,null,null,"Kg",{"$f":"I9/1000","v":0},null,null,null,"Kg",{"$f":"N9/1000","v":0}]
[null,null,"mol",{"$f":"D14/B3","v":0},null,null,null,"mol",{"$f":"I14/G4","v":0}]
[null,null,"L",{"$f":"D13/1000","v":0},null,null,null,"L",{"$f":"I13/1000","v":0},null,null,null,"L",{"$f":"N13/1000","v":0}]
[null,null,"mL",{"$f":"'concentartion connection'!B10","v":0},null,null,null,"mL",{"$f":"'concentartion connection'!E6","v":0},null,null,null,"mL",{"$f":"'concentartion connection'!I6","v":0}]
[null,null,"g",{"$f":"D13*B4","v":0},null,null,null,"g",{"$f":"I13*G5","v":0},null,null,null,"g",{"$f":"N13*L5","v":0}]
[null,null,"Kg",{"$f":"D14/1000","v":0},null,null,null,"Kg",{"$f":"I14/1000","v":0},null,null,null,"Kg",{"$f":"N14/1000","v":0}]
[null,null,"mol",{"$f":"D19/B3","v":2.5},null,null,null,"mol",{"$f":"I19/G4","v":0.125}]
[null,null,"L",{"$f":"IF(ISERROR(D18/1000),0,D18/1000)","v":4.4999999999999998E-2},null,null,null,"L",{"$f":"IF(ISERROR(I18/1000),0,I18/1000)","v":0},null,null,null,"L",{"$f":"IF(ISERROR(N18/1000),0,N18/1000)","v":0}]
[null,null,"mL",{"$f":"IF(ISERROR(D19/B4),0,D19/B4)","v":45},null,null,null,"mL",{"$f":"IF(ISERROR(I19/G5),0,I19/G5)","v":0},null,null,null,"mL",{"$f":"IF(ISERROR(N19/L5),0,N19/L5)","v":0}]
[null,null,"g",{"$f":"'concentartion connection'!D10","v":45},null,null,null,"g",{"$f":"'concentartion connection'!B6","v":5},null,null,null,"g",{"$f":"'concentartion connection'!J6","v":0}]
[null,null,"Kg",{"$f":"D19/1000","v":4.4999999999999998E-2},null,null,null,"Kg",{"$f":"I19/1000","v":5.0000000000000001E-3},null,null,null,"Kg",{"$f":"N19/1000","v":0}]
[null,null,"mol",{"$f":"D24/B3","v":0},null,null,null,"mol",{"$f":"I24/G4","v":0}]
[null,null,"L",{"$f":"IF(ISERROR(D23/1000),0,D23/1000)","v":0},null,null,null,"L",{"$f":"IF(ISERROR(I23/1000),0,I23/1000)","v":0},null,null,null,"L",{"$f":"IF(ISERROR(N23/1000),0,N23/1000)","v":0}]
[null,null,"mL",{"$f":"IF(ISERROR(D24/B4),0,D24/B4)","v":0},null,null,null,"mL",{"$f":"IF(ISERROR(I24/G5),0,I24/G5)","v":0},null,null,null,"mL",{"$f":"IF(ISERROR(N24/L5),0,N24/L5)","v":0}]
[null,null,"g",{"$f":"D25*1000","v":0},null,null,null,"g",{"$f":"I25*1000","v":0},null,null,null,"g",{"$f":"N25*1000","v":0}]
[null,null,"Kg",{"$f":"'concentartion connection'!E10","v":0},null,null,null,"Kg",{"$f":"'concentartion connection'!C6","v":0},null,null,null,"Kg",{"$f":"'concentartion connection'!K6","v":0}]
[]
[]
[]
[null,null,"L",{"$f":"SUMIF(C$1:C$25,C29,D$1:D$25)","v":4.4999999999999998E-2},null,null,null,"L",{"$f":"SUM(I22,I17,I12,I7,I2)","v":0},null,null,null,"L",{"$f":"SUMIF(M$1:M$25,M29,N$1:N$25)","v":0}]
[null,null,"mL",{"$f":"SUMIF(C$1:C$25,C30,D$1:D$25)","v":45},null,null,null,"mL",{"$f":"SUMIF(H$1:H$25,H30,I$1:I$25)","v":0},null,null,null,"mL",{"$f":"SUMIF(M$1:M$25,M30,N$1:N$25)","v":0}]
[null,null,"g",45,null,null,null,"g",5,null,null,null,"g",0]
[null,null,"Kg",4.4999999999999998E-2,null,null,null,"Kg",5.0000000000000001E-3,null,null,null,"Kg",0]
[null,null,"mol",2.5,null,null,null,"mol",0.125]

{"sheet":"محلولها2","index":2,"n_rows":56,"n_cols":9,"rows_kept":56,"cut":false,"hidden":false,"merged":[[4,8,9,10],[11,8,20,10]]}
[null,"داده شده","لیتر محلول","میلی لیتر محلول","گرم حل شونده","گرم محلول","گرم حلال","مول حل شونده"]
["g/L(aq)",null,{"$f":"IF(B2<>\"\",1,\"\")","v":""},{"$f":"IF(B2<>\"\",C2*1000,\"\")","v":""},{"$f":"IF(B2<>\"\",B2,\"\")","v":""},{"$f":"IF(B2<>\"\",D2*B9,\"\")","v":""},{"$f":"IF(B2<>\"\",F2-E2,\"\")","v":""},{"$f":"IF(B2<>\"\",E2/B10,\"\")","v":""}]
["mol/L(aq)",1,{"$f":"IF(B3<>\"\",1,\"\")","v":1},{"$f":"IF(B3<>\"\",C3*1000,\"\")","v":1000},{"$f":"IF(B3<>\"\",H3*B10,\"\")","v":50},{"$f":"IF(B3<>\"\",C3*B9*1000,\"\")","v":1200},{"$f":"IF(B3<>\"\",F3-E3,\"\")","v":1150},{"$f":"IF(B3<>\"\",B3,\"\")","v":1}]
["%g",null,{"$f":"IF(B4<>\"\",D4/1000,\"\")","v":""},{"$f":"IF(B4<>\"\",F4/B9,\"\")","v":""},{"$f":"IF(B4<>\"\",B4,\"\")","v":""},{"$f":"IF(B4<>\"\",100,\"\")","v":""},{"$f":"IF(B4<>\"\",F4-E4,\"\")","v":""},{"$f":"IF(B4<>\"\",B4/B10,\"\")","v":""}]
["mol/Kg",null,{"$f":"IF(B5<>\"\",D5/1000,\"\")","v":""},{"$f":"IF(B5<>\"\",F5/B9,\"\")","v":""},{"$f":"IF(B5<>\"\",H5*B10,\"\")","v":""},{"$f":"IF(B5<>\"\",G5+E5,\"\")","v":""},{"$f":"IF(B5<>\"\",1000,\"\")","v":""},{"$f":"IF(B5<>\"\",B5,\"\")","v":""},"www.chemclinic.blogfa.com"]
["ppm",null,{"$f":"IF(B6<>\"\",D6/1000,\"\")","v":""},{"$f":"IF(B6<>\"\",F6/B9,\"\")","v":""},{"$f":"IF(B6<>\"\",B6,\"\")","v":""},{"$f":"IF(B6<>\"\",1000000,\"\")","v":""},{"$f":"IF(B6<>\"\",F6-E6,\"\")","v":""},{"$f":"IF(B6<>\"\",B6/B10,\"\")","v":""}]
[]
[]
["چگالی",1.2]
["جرم مولی",50]
[]
[null,null,null,null,null,null,null,null,"غلامحسین شیروانی"]
[null,null,"لیتر محلول","میلی لیتر محلول","گرم حل شونده","گرم محلول","گرم حلال","مول حل شونده"]
[null,null,null,null,25]
[null,null,{"$f":"IF(C14<>\"\",\"\",SUM(C51:C56))","v":0.5},500,"",600,575,{"$f":"IF(H14<>\"\",\"\",SUM(H51:H56))","v":0.5}]
[]
[]
[]
[]
[null,null,"g/L(aq)","mol/L(aq)","%g","mol/Kg","ppm"]
[null,null,{"$f":"SUM(E2:E6)/SUM(C2:C6)","v":50},{"$f":"SUM(H2:H6)/SUM(C2:C6)","v":1},{"$f":"SUM(E2:E6)/SUM(F2:F6)*100","v":4.1666666666666661},{"$f":"SUM(H2:H6)/(SUM(G2:G6)/1000)","v":0.86956521739130443},{"$f":"E21*10000","v":41666.666666666664}]
[]
[]
[]
[]
[]
[]
[]
[]
[]
[]
[]
[]
[]
[]
[]
[]
[]
[]
[]
[]
[]
[]
[]
[]
[]
[]
[]
[]
[null,null,"L(aq)","mL(aq)","g solute","g solution","g solvent","mol"]
[null,null,{"$f":"$F$14/SUM($F$2:$F$6)*SUM(C2:C6)","v":0},0,{"$f":"$F$14/SUM($F$2:$F$6)*SUM(E2:E6)","v":0},null,{"$f":"$F$14/SUM($F$2:$F$6)*SUM(G2:G6)","v":0},{"$f":"$F$14/SUM($F$2:$F$6)*SUM(H2:H6)","v":0}]
[null,null,{"$f":"$E$14/SUM($E$2:$E$6)*SUM(C2:C6)","v":0.5},{"$f":"$E$14/SUM($E$2:$E$6)*SUM(D2:D6)","v":500},null,{"$f":"$E$14/SUM($E$2:$E$6)*SUM(F2:F6)","v":600},{"$f":"$E$14/SUM($E$2:$E$6)*SUM(G2:G6)","v":575},0.5]
[null,null,{"$f":"$D$14/SUM($D$2:$D$6)*SUM(C2:C6)","v":0},null,{"$f":"$D$14/SUM($D$2:$D$6)*SUM(E2:E6)","v":0},{"$f":"$D$14/SUM($D$2:$D$6)*SUM(F2:F6)","v":0},0,0]
[null,null,null,{"$f":"$C$14/SUM($C$2:$C$6)*SUM(D2:D6)","v":0},{"$f":"$C$14/SUM($C$2:$C$6)*SUM(E2:E6)","v":0},0,0,0]
[null,null,{"$f":"$G$14/SUM($G$2:$G$6)*SUM(C2:C6)","v":0},{"$f":"$G$14/SUM($G$2:$G$6)*SUM(D2:D6)","v":0},0,0,null,{"$f":"$G$14/SUM($G$2:$G$6)*SUM(H2:H6)","v":0}]
[null,null,{"$f":"$H$14/SUM($H$2:$H$6)*SUM(C2:C6)","v":0},0,0,0,{"$f":"$H$14/SUM($H$2:$H$6)*SUM(G2:G6)","v":0}]